BEGIN:VCALENDAR
VERSION:2.0
PRODID:-//ChamberMaster//Event Calendar 2.0//EN
METHOD:PUBLISH
X-PUBLISHED-TTL:P3D
REFRESH-INTERVAL:P3D
CALSCALE:GREGORIAN
BEGIN:VEVENT
DTSTART:20171201T220000Z
DTEND:20171202T020000Z
X-MICROSOFT-CDO-ALLDAYEVENT:FALSE
SUMMARY:Owens Valley Career Development Job Fair
DESCRIPTION:Job and Resource Fair
X-ALT-DESC;FMTTYPE=text/html:Job and Resource Fair
LOCATION:191 W Poplar Ave Porterville CA 93257
UID:e.2225.1260
SEQUENCE:3
DTSTAMP:20260422T193957Z
URL:https://business.portervillechamber.org/events/details/owens-valley-career-development-job-fair-1260
END:VEVENT

END:VCALENDAR
