BEGIN:VCALENDAR
VERSION:2.0
PRODID:-//ChamberMaster//Event Calendar 2.0//EN
METHOD:PUBLISH
X-PUBLISHED-TTL:P3D
REFRESH-INTERVAL:P3D
CALSCALE:GREGORIAN
BEGIN:VEVENT
DTSTART:20191113T030000Z
DTEND:20191113T050000Z
X-MICROSOFT-CDO-ALLDAYEVENT:FALSE
SUMMARY:Paint & Wine Night
DESCRIPTION:The Imagine Community Arts Center is hosting a Paint Night at Stafford's Chocolates from 7:00 - 9:00 p.m. on Tuesday\, November 12th. \n\nFor more information\, visit their website!
X-ALT-DESC;FMTTYPE=text/html:The Imagine Community Arts Center is hosting a Paint Night at Stafford&#39\;s Chocolates from 7:00 - 9:00 p.m. on Tuesday\, November 12th.&nbsp\;<br />\nFor more information\, visit their website!&nbsp\;
LOCATION:Stafford's Chocolates 114 N. Main Street Porterville\, CA 93257
UID:e.2225.2083
SEQUENCE:3
DTSTAMP:20260421T014934Z
URL:https://business.portervillechamber.org/events/details/paint-wine-night-2083
END:VEVENT

END:VCALENDAR
