BEGIN:VCALENDAR
VERSION:2.0
PRODID:-//ChamberMaster//Event Calendar 2.0//EN
METHOD:PUBLISH
X-PUBLISHED-TTL:P3D
REFRESH-INTERVAL:P3D
CALSCALE:GREGORIAN
BEGIN:VEVENT
DTSTART:20200115T030000Z
DTEND:20200115T050000Z
X-MICROSOFT-CDO-ALLDAYEVENT:FALSE
SUMMARY:Paint & Wine Night
DESCRIPTION:Imagine Community Art's Center is hosting a Paint and Wine Night at Stafford's Chocolates on Tuesday\, January 14th from 7:00 p.m. to 9:00 p.m. All supplies will be provided including chocolate and wine for the participants.\n\n\n\nONLY 21+
X-ALT-DESC;FMTTYPE=text/html:Imagine Community Art&#39\;s Center is hosting a Paint and Wine Night at Stafford&#39\;s Chocolates on Tuesday\, January 14th from 7:00 p.m. to 9:00 p.m. All supplies will be provided including chocolate and wine for the participants.<br />\n<br />\n<strong>ONLY 21+</strong>
LOCATION:Stafford's Chocolate 114 N. Main Street\, Porterville\, CA 93257
UID:e.2225.2107
SEQUENCE:3
DTSTAMP:20260420T221014Z
URL:https://business.portervillechamber.org/events/details/paint-wine-night-2107
END:VEVENT

END:VCALENDAR
