BEGIN:VCALENDAR
VERSION:2.0
PRODID:-//ChamberMaster//Event Calendar 2.0//EN
METHOD:PUBLISH
X-PUBLISHED-TTL:P3D
REFRESH-INTERVAL:P3D
CALSCALE:GREGORIAN
BEGIN:VEVENT
DTSTART:20181201T180000Z
DTEND:20181201T200000Z
X-MICROSOFT-CDO-ALLDAYEVENT:FALSE
SUMMARY:Pictures & Pancakes with Santa - Porterville City Library
DESCRIPTION:Come in for your opportunity to take a picture with Santa. After pictures\, stick around to have pancakes with Santa. One free photo if you provide a non-perishable food item or an unwrapped toy for Toys for Tots or use your own camera. Prints are limited to one copy per child and/ or one copy per family.
X-ALT-DESC;FMTTYPE=text/html:Come in for your opportunity to take a picture with Santa. After pictures\, stick around to have pancakes with Santa. One free photo if you provide a non-perishable food item or an unwrapped toy for Toys for Tots or use your own camera. Prints are limited to one copy per child and/ or one copy per family.
LOCATION:Porterville City Library 41 West Thurman Ave.
UID:e.2225.1835
SEQUENCE:3
DTSTAMP:20260421T231033Z
URL:https://business.portervillechamber.org/events/details/pictures-pancakes-with-santa-porterville-city-library-1835
END:VEVENT

END:VCALENDAR
