BEGIN:VCALENDAR
VERSION:2.0
PRODID:-//ChamberMaster//Event Calendar 2.0//EN
METHOD:PUBLISH
X-PUBLISHED-TTL:P3D
REFRESH-INTERVAL:P3D
CALSCALE:GREGORIAN
BEGIN:VEVENT
DTSTART:20171213T013000Z
DTEND:20171213T040000Z
X-MICROSOFT-CDO-ALLDAYEVENT:FALSE
SUMMARY:Pictures with Santa-Centennial Park
DESCRIPTION:Come out and bring your children to take a FREE picture with Santa!
X-ALT-DESC;FMTTYPE=text/html:Come out and bring your children to take a FREE picture with Santa!&nbsp\;
LOCATION:
UID:e.2225.1155
SEQUENCE:3
DTSTAMP:20260422T181148Z
URL:https://business.portervillechamber.org/events/details/pictures-with-santa-centennial-park-1155
END:VEVENT

END:VCALENDAR
