BEGIN:VCALENDAR
VERSION:2.0
PRODID:-//ChamberMaster//Event Calendar 2.0//EN
METHOD:PUBLISH
X-PUBLISHED-TTL:P3D
REFRESH-INTERVAL:P3D
CALSCALE:GREGORIAN
BEGIN:VEVENT
DTSTART:20181212T013000Z
DTEND:20181212T040000Z
X-MICROSOFT-CDO-ALLDAYEVENT:FALSE
SUMMARY:Pictures With Santa - Porterville Chamber or Commerce
DESCRIPTION:Pictures in the Park with Santa.
X-ALT-DESC;FMTTYPE=text/html:Pictures in the Park with Santa.
LOCATION:Centenial Park 291 North Main St.
UID:e.2225.1850
SEQUENCE:3
DTSTAMP:20260421T211815Z
URL:https://business.portervillechamber.org/events/details/pictures-with-santa-porterville-chamber-or-commerce-1850
END:VEVENT

END:VCALENDAR
