BEGIN:VCALENDAR
VERSION:2.0
PRODID:-//ChamberMaster//Event Calendar 2.0//EN
METHOD:PUBLISH
X-PUBLISHED-TTL:P3D
REFRESH-INTERVAL:P3D
CALSCALE:GREGORIAN
BEGIN:VEVENT
DTSTART:20181211T183000Z
DTEND:20181212T033000Z
X-MICROSOFT-CDO-ALLDAYEVENT:FALSE
SUMMARY:Pictures With Santa - Porterville City Library
DESCRIPTION:
X-ALT-DESC;FMTTYPE=text/html:
LOCATION:Porterville Library 41 West Thurman Ave.
UID:e.2225.1838
SEQUENCE:3
DTSTAMP:20260421T230936Z
URL:https://business.portervillechamber.org/events/details/pictures-with-santa-porterville-city-library-1838
END:VEVENT

END:VCALENDAR
