BEGIN:VCALENDAR
VERSION:2.0
PRODID:-//ChamberMaster//Event Calendar 2.0//EN
METHOD:PUBLISH
X-PUBLISHED-TTL:P3D
REFRESH-INTERVAL:P3D
CALSCALE:GREGORIAN
BEGIN:VEVENT
DTSTART:20181206T000000Z
DTEND:20181206T020000Z
X-MICROSOFT-CDO-ALLDAYEVENT:FALSE
SUMMARY:Pictures With Santa - Special Needs Day
DESCRIPTION:By appointment only.
X-ALT-DESC;FMTTYPE=text/html:By appointment only.
LOCATION:Porterville City Library 41 West Thurman Ave.
UID:e.2225.1836
SEQUENCE:3
DTSTAMP:20260421T212030Z
URL:https://business.portervillechamber.org/events/details/pictures-with-santa-special-needs-day-1836
END:VEVENT

END:VCALENDAR
