BEGIN:VCALENDAR
VERSION:2.0
PRODID:-//ChamberMaster//Event Calendar 2.0//EN
METHOD:PUBLISH
X-PUBLISHED-TTL:P3D
REFRESH-INTERVAL:P3D
CALSCALE:GREGORIAN
BEGIN:VEVENT
DTSTART:20181003T170000Z
DTEND:20181006T230000Z
X-MICROSOFT-CDO-ALLDAYEVENT:FALSE
SUMMARY:Porterville Art Association
DESCRIPTION:The Portervillle Art Association Gallery
X-ALT-DESC;FMTTYPE=text/html:The Portervillle Art Association Gallery
LOCATION:151 North Main Street
UID:e.2225.1799
SEQUENCE:3
DTSTAMP:20260422T003437Z
URL:https://business.portervillechamber.org/events/details/porterville-art-association-1799
END:VEVENT

END:VCALENDAR
