BEGIN:VCALENDAR
VERSION:2.0
PRODID:-//ChamberMaster//Event Calendar 2.0//EN
METHOD:PUBLISH
X-PUBLISHED-TTL:P3D
REFRESH-INTERVAL:P3D
CALSCALE:GREGORIAN
BEGIN:VEVENT
DTSTART:20190928T170000Z
DTEND:20190928T220000Z
X-MICROSOFT-CDO-ALLDAYEVENT:FALSE
SUMMARY:Porterville Art Festival
DESCRIPTION:The Porterville Arts Commission\, The City of Porterville\, and The Porterville Chamber of Commerce presents the 2019 Porterville Art Festival on September 28th. This Festival is open to the public and it will introduce an array of artists\, food vendors\, crafts\, performers and musicians. Come out and enjoy the art\, music\, food\, and entertainment.\n\n\n\nFor a vendor and booth application\, visit our website at portervillechamber.org.\n\n For a performance application\, please contact us at 559-784-7502 or info@portervillechamber.org.
X-ALT-DESC;FMTTYPE=text/html:<p style="margin: 0px 0px 6px\; font-family: Helvetica\, Arial\, sans-serif\; color: rgb(28\, 30\, 33)\; font-size: 14px\;">The Porterville Arts Commission\, The City of Porterville\, and The Porterville Chamber of Commerce presents the 2019 Porterville Art Festival on September 28th. This Festival is open to the public and it will introduce an array of artists\, food vendors\, crafts\, performers and musicians. Come out and enjoy the art\, music\, food\, and entertainment.</p>\n\n<p style="margin: 6px 0px 0px\; display: inline\; font-family: Helvetica\, Arial\, sans-serif\; color: rgb(28\, 30\, 33)\; font-size: 14px\;"><br />\nFor a vendor and booth application\, visit our website at&nbsp\;<a data-ft="{&quot\;tn&quot\;:&quot\;-U&quot\;}" data-lynx-mode="async" data-lynx-uri="https://l.facebook.com/l.php?u=http%3A%2F%2Fportervillechamber.org%2F%3Ffbclid%3DIwAR1KNRqoQDmbOAMcbvTteOfFx31itZaYaQnB7nPSwAXQvIjN7COQkjoQGbw&amp\;h=AT2lz3bY03M83x_qem2Ksst3jnqNSX_23ctnovPjyTrkfZb2TNBtc7Iv2TJlhYg17vc8ZkyTQG1qLW_M_iwpwQo0d1uI-xwSOQ9glM-Gj1q6jOcF4HlBjh7FN6yk0Ux4VXQzq__IOh2S74kGY_IJYJKLMbw2w9bVN2_tgtNmACKAf_1XhB2zoHthpCC2QWBWFsTc07EMlmUXI5TRg6eUSQNMpHhl6f3M3HMg60HsXUlMUxEnqS2_D1E8962kCvRpBNqUzF8bksNPKJL6tYDnGQ_36rkJNcW-E3BJk1bxrYAzXSEn__iJ32aBCK-90IGBz6cJcbpMABQ_hi4q2frC8AZKB35G6-CeuEPf2QqjlipONzqlrT6KfpRNQRaaionTYHmj5IQRhz1dmxy1iEdPaxrMQ0QChdfZLKUShm-zXADqViiuGpYtT7GccX0rLbcH-hPOBUN9T1yse-1CzVKmg7mUufyr_iJN0Iql9y4p64oPPZpfzTlrABmTfqTElcrafLgufCJTdlJNjxrbhC-U5jsIIK3x3IB7WEi0P2f_VFdwN3NWGb4bTa0q5F5_oW4p1CqgzSW3I-1CjEDBIxFfgvyUPPba3CW0u0YxA-4GKEhHo2__omPn60q5F_0FvqXO7VNy" href="http://portervillechamber.org/?fbclid=IwAR1KNRqoQDmbOAMcbvTteOfFx31itZaYaQnB7nPSwAXQvIjN7COQkjoQGbw" rel="noopener nofollow" style="color: rgb(56\, 88\, 152)\; cursor: pointer\; text-decoration-line: none\; font-family: inherit\;" target="_blank">portervillechamber.org.</a><br />\n&#65279\;For a performance application\, please&nbsp\;contact us at 559-784-7502 or info@portervillechamber.org.</p>\n
LOCATION:Centennial Plaza Downtown Main St. Porterville\, CA 93257
UID:e.2225.1986
SEQUENCE:3
DTSTAMP:20260421T054717Z
URL:https://business.portervillechamber.org/events/details/porterville-art-festival-1986
END:VEVENT

END:VCALENDAR
