BEGIN:VCALENDAR
VERSION:2.0
PRODID:-//ChamberMaster//Event Calendar 2.0//EN
METHOD:PUBLISH
X-PUBLISHED-TTL:P3D
REFRESH-INTERVAL:P3D
CALSCALE:GREGORIAN
BEGIN:VEVENT
DTSTART:20190323T200000Z
DTEND:20190324T000000Z
X-MICROSOFT-CDO-ALLDAYEVENT:FALSE
SUMMARY:Porterville Breakfast Lions Club - Brew Fest
DESCRIPTION:The Porterville Breakfast Lions Club invites you to attend this years annual Brew Fest.
X-ALT-DESC;FMTTYPE=text/html:The Porterville Breakfast Lions Club invites you to attend this years annual Brew Fest.
LOCATION:Porterville Veterans Memorial Building 1900 W. Olive Ave.
UID:e.2225.1889
SEQUENCE:3
DTSTAMP:20260421T155515Z
URL:https://business.portervillechamber.org/events/details/porterville-breakfast-lions-club-brew-fest-1889
END:VEVENT

END:VCALENDAR
