BEGIN:VCALENDAR
VERSION:2.0
PRODID:-//ChamberMaster//Event Calendar 2.0//EN
METHOD:PUBLISH
X-PUBLISHED-TTL:P3D
REFRESH-INTERVAL:P3D
CALSCALE:GREGORIAN
BEGIN:VEVENT
DTSTART:20190613T230000Z
DTEND:20190614T020000Z
X-MICROSOFT-CDO-ALLDAYEVENT:FALSE
SUMMARY:Porterville Breakfast Lions -Pulled Pork Drive Thru Dinner
DESCRIPTION:Tickets are $10 and includes pulled pork\, chili beans\, coleslaw\, bbq sauce\, dinner roll and dessert. Contact a club member for more information!
X-ALT-DESC;FMTTYPE=text/html:Tickets are $10 and includes pulled pork\, chili beans\, coleslaw\, bbq sauce\, dinner roll and dessert. Contact a club member for more information!&nbsp\;
LOCATION:Eagles Lodge parking lot
UID:e.2225.1953
SEQUENCE:3
DTSTAMP:20260421T124149Z
URL:https://business.portervillechamber.org/events/details/porterville-breakfast-lions-pulled-pork-drive-thru-dinner-1953
END:VEVENT

END:VCALENDAR
