BEGIN:VCALENDAR
VERSION:2.0
PRODID:-//ChamberMaster//Event Calendar 2.0//EN
METHOD:PUBLISH
X-PUBLISHED-TTL:P3D
REFRESH-INTERVAL:P3D
CALSCALE:GREGORIAN
BEGIN:VEVENT
DTSTART:20180505T150000Z
DTEND:20180505T190000Z
X-MICROSOFT-CDO-ALLDAYEVENT:FALSE
SUMMARY:Porterville Breakfast Rotary 17th Annual Cancer Center 5K Run/Walk
DESCRIPTION:It's Time to Move for a Cause \n\nPorterville Breakfast Rotary Cancer Center 5K Run/Walk\n\nHonoring Blake Bounds\, Deonne Moore and Loyd Winner\n\nSign up at brkfstrotary.weebly.com/events\n\nPre-Registration closes 04/29/2018
X-ALT-DESC;FMTTYPE=text/html:It&#39\;s Time to Move for a Cause&nbsp\;<br />\nPorterville Breakfast Rotary Cancer Center 5K Run/Walk<br />\nHonoring Blake Bounds\, Deonne&nbsp\;Moore and Loyd Winner<br />\nSign up at brkfstrotary.weebly.com/events<br />\nPre-Registration closes 04/29/2018<br />\n<br />\n&nbsp\;
LOCATION:Granite Hills High School
UID:e.2225.1431
SEQUENCE:3
DTSTAMP:20260422T092746Z
URL:https://business.portervillechamber.org/events/details/porterville-breakfast-rotary-17th-annual-cancer-center-5k-run-walk-1431
END:VEVENT

END:VCALENDAR
