BEGIN:VCALENDAR
VERSION:2.0
PRODID:-//ChamberMaster//Event Calendar 2.0//EN
METHOD:PUBLISH
X-PUBLISHED-TTL:P3D
REFRESH-INTERVAL:P3D
CALSCALE:GREGORIAN
BEGIN:VEVENT
DTSTART:20190504T150000Z
DTEND:20190504T170000Z
X-MICROSOFT-CDO-ALLDAYEVENT:FALSE
SUMMARY:Porterville Breakfast Rotary's 18th Annual Cancer Center 5k Run/Walk
DESCRIPTION:Honoring Milt Stowe\, Jim Wonton\, and Dale Koop\n\nSign up at: brkfstrotary.weebly.com/events
X-ALT-DESC;FMTTYPE=text/html:Honoring Milt Stowe\, Jim Wonton\, and Dale Koop<br />\nSign up at: brkfstrotary.weebly.com/events<br />\n&nbsp\;
LOCATION:
UID:e.2225.1944
SEQUENCE:3
DTSTAMP:20260421T142343Z
URL:https://business.portervillechamber.org/events/details/porterville-breakfast-rotary-s-18th-annual-cancer-center-5k-run-walk-1944
END:VEVENT

END:VCALENDAR
