BEGIN:VCALENDAR
VERSION:2.0
PRODID:-//ChamberMaster//Event Calendar 2.0//EN
METHOD:PUBLISH
X-PUBLISHED-TTL:P3D
REFRESH-INTERVAL:P3D
CALSCALE:GREGORIAN
BEGIN:VEVENT
DTSTART;VALUE=DATE:20191111
DTEND;VALUE=DATE:20191112
TRANSP:TRANSPARENT
X-MICROSOFT-CDO-ALLDAYEVENT:TRUE
SUMMARY:Porterville Chamber of Commerce Office Closed
DESCRIPTION:In observance of Veterans' Day\, the Porterville Chamber of Commerce Office will be closed on: Monday\, November 11th. Our business hours will resume Tuesday\, November 12th. We apologize for any inconvenience.
X-ALT-DESC;FMTTYPE=text/html:In observance of Veterans&#39\; Day\, the Porterville Chamber of Commerce Office will be closed on: Monday\, November 11th. Our business hours will resume Tuesday\, November 12th. We apologize for any inconvenience.&nbsp\;
LOCATION:
UID:e.2225.2091
SEQUENCE:3
DTSTAMP:20260421T021421Z
URL:https://business.portervillechamber.org/events/details/porterville-chamber-of-commerce-office-closed-2091
END:VEVENT

END:VCALENDAR
