BEGIN:VCALENDAR
VERSION:2.0
PRODID:-//ChamberMaster//Event Calendar 2.0//EN
METHOD:PUBLISH
X-PUBLISHED-TTL:P3D
REFRESH-INTERVAL:P3D
CALSCALE:GREGORIAN
BEGIN:VEVENT
DTSTART;VALUE=DATE:20191128
DTEND;VALUE=DATE:20191130
TRANSP:TRANSPARENT
X-MICROSOFT-CDO-ALLDAYEVENT:TRUE
SUMMARY:Porterville Chamber of Commerce Office Closed
DESCRIPTION:In observance of Thanksgiving Day\, the Porterville Chamber of Commerce Office will be closed on Thursday\, November 28th\, and Friday\, November 29th. Our business hours will resume on Monday\, December 2nd. We apologize for any inconvenience. \n\n\n\nHappy Thanksgiving! \n\n-From your friends at the Porterville Chamber of Commerce.
X-ALT-DESC;FMTTYPE=text/html:In observance of Thanksgiving Day\, the Porterville Chamber of Commerce Office will be closed on Thursday\, November 28th\, and Friday\, November 29th. Our business hours will resume on Monday\, December 2nd. We apologize for any inconvenience.&nbsp\;<br />\n<br />\nHappy Thanksgiving!&nbsp\;<br />\n-From your friends at the Porterville Chamber of Commerce.&nbsp\;
LOCATION:
UID:e.2225.2092
SEQUENCE:3
DTSTAMP:20260421T015418Z
URL:https://business.portervillechamber.org/events/details/porterville-chamber-of-commerce-office-closed-2092
END:VEVENT

END:VCALENDAR
