BEGIN:VCALENDAR
VERSION:2.0
PRODID:-//ChamberMaster//Event Calendar 2.0//EN
METHOD:PUBLISH
X-PUBLISHED-TTL:P3D
REFRESH-INTERVAL:P3D
CALSCALE:GREGORIAN
BEGIN:VEVENT
DTSTART;VALUE=DATE:20200120
DTEND;VALUE=DATE:20200121
TRANSP:TRANSPARENT
X-MICROSOFT-CDO-ALLDAYEVENT:TRUE
SUMMARY:Porterville Chamber of Commerce Office Closed
DESCRIPTION:In observance of Martin Luther King Jr. Day\, our office will be closed on Monday\, January 20th. Our business hours will resume Tuesday\, January 21st. \n\n\n\nWe apologize for any inconvenience.
X-ALT-DESC;FMTTYPE=text/html:In observance of Martin Luther King Jr. Day\, our office will be closed on Monday\, January 20th. Our business hours will resume Tuesday\, January 21st.&nbsp\;<br />\n<br />\nWe apologize for any inconvenience.&nbsp\;
LOCATION:
UID:e.2225.2122
SEQUENCE:3
DTSTAMP:20260420T222008Z
URL:https://business.portervillechamber.org/events/details/porterville-chamber-of-commerce-office-closed-2122
END:VEVENT

END:VCALENDAR
