BEGIN:VCALENDAR
VERSION:2.0
PRODID:-//ChamberMaster//Event Calendar 2.0//EN
METHOD:PUBLISH
X-PUBLISHED-TTL:P3D
REFRESH-INTERVAL:P3D
CALSCALE:GREGORIAN
BEGIN:VEVENT
DTSTART:20181027T230000Z
DTEND:20181028T003000Z
X-MICROSOFT-CDO-ALLDAYEVENT:FALSE
SUMMARY:Porterville City Library's Halloween Costume Contest
DESCRIPTION:Halloween Costume Contest
X-ALT-DESC;FMTTYPE=text/html:Halloween Costume Contest
LOCATION:Porterville City Library 41 W. thurman Ave Porterville\, CA 93257
UID:e.2225.1825
SEQUENCE:3
DTSTAMP:20260422T003742Z
URL:https://business.portervillechamber.org/events/details/porterville-city-library-s-halloween-costume-contest-1825
END:VEVENT

END:VCALENDAR
