BEGIN:VCALENDAR
VERSION:2.0
PRODID:-//ChamberMaster//Event Calendar 2.0//EN
METHOD:PUBLISH
X-PUBLISHED-TTL:P3D
REFRESH-INTERVAL:P3D
CALSCALE:GREGORIAN
BEGIN:VEVENT
DTSTART:20180609T170000Z
DTEND:20180609T200000Z
X-MICROSOFT-CDO-ALLDAYEVENT:FALSE
SUMMARY:Porterville City Library's Kickoff Carnival
DESCRIPTION:Porterville City Library's 2018 Summer Reading Program Kickoff Carnival
X-ALT-DESC;FMTTYPE=text/html:Porterville City Library&#39\;s 2018 Summer Reading Program Kickoff Carnival
LOCATION:Centennial Plaza Park 296 N Main St
UID:e.2225.1498
SEQUENCE:3
DTSTAMP:20260422T073417Z
URL:https://business.portervillechamber.org/events/details/porterville-city-library-s-kickoff-carnival-1498
END:VEVENT

END:VCALENDAR
