BEGIN:VCALENDAR
VERSION:2.0
PRODID:-//ChamberMaster//Event Calendar 2.0//EN
METHOD:PUBLISH
X-PUBLISHED-TTL:P3D
REFRESH-INTERVAL:P3D
CALSCALE:GREGORIAN
BEGIN:VEVENT
DTSTART:20171015T010000Z
DTEND:20171015T040000Z
X-MICROSOFT-CDO-ALLDAYEVENT:FALSE
SUMMARY:Porterville College 90th Year - A Night Under the Stars
DESCRIPTION:"A Night Under the Stars" in the Porterville College Quad. 6pm Wine Tasting and Reception and 7pm Dinner and Silent Auction. $30 for tickets.
X-ALT-DESC;FMTTYPE=text/html:<span style="color: rgb(34\, 34\, 34)\; font-family: arial\, sans-serif\; font-size: 12.8px\;">&nbsp\;&ldquo\;A Night Under the Stars&rdquo\; in the Porterville College Quad</span><span style="color: rgb(34\, 34\, 34)\; font-family: arial\, sans-serif\; font-size: 12.8px\;">.&nbsp\;</span><span class="aBn" data-term="goog_1990595171" style="border-bottom: 1px dashed rgb(204\, 204\, 204)\; position: relative\; top: -2px\; z-index: 0\; color: rgb(34\, 34\, 34)\; font-family: arial\, sans-serif\; font-size: 12.8px\;" tabindex="0"><span class="aQJ" style="position: relative\; top: 2px\; z-index: -1\;">6pm</span></span><span style="color: rgb(34\, 34\, 34)\; font-family: arial\, sans-serif\; font-size: 12.8px\;">&nbsp\;Wine Tasting and Reception and&nbsp\;</span><span class="aBn" data-term="goog_1990595172" style="border-bottom: 1px dashed rgb(204\, 204\, 204)\; position: relative\; top: -2px\; z-index: 0\; color: rgb(34\, 34\, 34)\; font-family: arial\, sans-serif\; font-size: 12.8px\;" tabindex="0"><span class="aQJ" style="position: relative\; top: 2px\; z-index: -1\;">7pm</span></span><span style="color: rgb(34\, 34\, 34)\; font-family: arial\, sans-serif\; font-size: 12.8px\;">&nbsp\;Dinner and Silent Auction. $30 for tickets.&nbsp\;</span>
LOCATION:Porterville College Quad
UID:e.2225.1233
SEQUENCE:3
DTSTAMP:20260422T215326Z
URL:https://business.portervillechamber.org/events/details/porterville-college-90th-year-a-night-under-the-stars-1233
END:VEVENT

END:VCALENDAR
