BEGIN:VCALENDAR
VERSION:2.0
PRODID:-//ChamberMaster//Event Calendar 2.0//EN
METHOD:PUBLISH
X-PUBLISHED-TTL:P3D
REFRESH-INTERVAL:P3D
CALSCALE:GREGORIAN
BEGIN:VEVENT
DTSTART:20191107T000000Z
DTEND:20191107T020000Z
X-MICROSOFT-CDO-ALLDAYEVENT:FALSE
SUMMARY:Porterville College Extended Opportunity Program and Services 50th Anniversary Celebration
DESCRIPTION:The Porterville College Extended Opportunity Program and Service (EOPS) program will be celebrating its 50th Anniversary this year. Please save the date for our celebration of this amazing milestone and the countless students who have benefited from this wonderful program. EOPS 50th Anniversary Celebration Remember the past. Celebrate the current. Imagine the Future Wednesday\, November 6\, 2019 4:00 PM - 6:00 PM Porterville College Quad
X-ALT-DESC;FMTTYPE=text/html:The Porterville College Extended Opportunity Program and Service (EOPS) program will be celebrating its 50th Anniversary this year. Please save the date for our celebration of this amazing milestone and the countless students who have benefited from this wonderful program. EOPS 50th Anniversary Celebration Remember the past. Celebrate the current. Imagine the Future Wednesday\, November 6\, 2019 4:00 PM - 6:00 PM Porterville College Quad
LOCATION:Porterville College Quad
UID:e.2225.2017
SEQUENCE:3
DTSTAMP:20260421T035140Z
URL:https://business.portervillechamber.org/events/details/porterville-college-extended-opportunity-program-and-services-50th-anniversary-celebration-2017
END:VEVENT

END:VCALENDAR
