BEGIN:VCALENDAR
VERSION:2.0
PRODID:-//ChamberMaster//Event Calendar 2.0//EN
METHOD:PUBLISH
X-PUBLISHED-TTL:P3D
REFRESH-INTERVAL:P3D
CALSCALE:GREGORIAN
BEGIN:VEVENT
DTSTART:20171016T180000Z
DTEND:20171016T200000Z
X-MICROSOFT-CDO-ALLDAYEVENT:FALSE
SUMMARY:Porterville College Fair
DESCRIPTION:Porterville College 1st Annual College Fair\n\nRepresentative from various colleges and universities will be available to answer questions about\n\n	Admissions Requirements\n	Transfer Opportunities\n	Major Preparation\n	Application Process
X-ALT-DESC;FMTTYPE=text/html:Porterville College 1st Annual College Fair<br />\nRepresentative from various colleges and universities&nbsp\;will be available to answer questions about\n<ul>\n	<li>Admissions Requirements</li>\n	<li>Transfer Opportunities</li>\n	<li>Major Preparation</li>\n	<li>Application Process</li>\n	<li>&nbsp\;</li>\n</ul>\n
LOCATION:Porterville College Quad
UID:e.2225.1234
SEQUENCE:3
DTSTAMP:20260422T220359Z
URL:https://business.portervillechamber.org/events/details/porterville-college-fair-1234
END:VEVENT

END:VCALENDAR
