BEGIN:VCALENDAR
VERSION:2.0
PRODID:-//ChamberMaster//Event Calendar 2.0//EN
METHOD:PUBLISH
X-PUBLISHED-TTL:P3D
REFRESH-INTERVAL:P3D
CALSCALE:GREGORIAN
BEGIN:VEVENT
DTSTART:20190202T014500Z
DTEND:20190202T030000Z
X-MICROSOFT-CDO-ALLDAYEVENT:FALSE
SUMMARY:Porterville College Foundation - Hall of Fame Ceremony
DESCRIPTION:This year's inductees:\n\nVickie Dugan (Athletics)\n\nMichael "Lou" Marchant (Outstanding Employee)\n\nSteve Schults (Distinguished Alumni)
X-ALT-DESC;FMTTYPE=text/html:This year&#39\;s inductees:<br />\nVickie Dugan (Athletics)<br />\nMichael &quot\;Lou&quot\; Marchant (Outstanding Employee)<br />\nSteve Schults (Distinguished Alumni)
LOCATION:Porterville College Gymnasium 100 East College Ave.\, Porterville\, CA 93257
UID:e.2225.1861
SEQUENCE:3
DTSTAMP:20260421T174426Z
URL:https://business.portervillechamber.org/events/details/porterville-college-foundation-hall-of-fame-ceremony-1861
END:VEVENT

END:VCALENDAR
