BEGIN:VCALENDAR
VERSION:2.0
PRODID:-//ChamberMaster//Event Calendar 2.0//EN
METHOD:PUBLISH
X-PUBLISHED-TTL:P3D
REFRESH-INTERVAL:P3D
CALSCALE:GREGORIAN
BEGIN:VEVENT
DTSTART:20191114T013000Z
DTEND:20191114T033000Z
X-MICROSOFT-CDO-ALLDAYEVENT:FALSE
SUMMARY:Porterville Community GSP Draft Workshop
DESCRIPTION:
X-ALT-DESC;FMTTYPE=text/html:
LOCATION:Porterville College Student Center Conference Room 100 E. College Avenue\, Porterville\, CA 93257
UID:e.2225.2086
SEQUENCE:3
DTSTAMP:20260421T015101Z
URL:https://business.portervillechamber.org/events/details/porterville-community-gsp-draft-workshop-2086
END:VEVENT

END:VCALENDAR
