BEGIN:VCALENDAR
VERSION:2.0
PRODID:-//ChamberMaster//Event Calendar 2.0//EN
METHOD:PUBLISH
X-PUBLISHED-TTL:P3D
REFRESH-INTERVAL:P3D
CALSCALE:GREGORIAN
BEGIN:VEVENT
DTSTART;VALUE=DATE:20190910
DTEND;VALUE=DATE:20190911
TRANSP:TRANSPARENT
X-MICROSOFT-CDO-ALLDAYEVENT:TRUE
SUMMARY:Porterville Corporate Games Begin
DESCRIPTION:Porterville Parks and Leisure Services & Tule River Indian Tribe Present the Porterville Corporate Games. It premier business to business competitions. The Competitions are from September 10th to September 20th. There will be 9 different activities and medals for the Top 3 Teams in each activity. The winner of the Porterville Corporate Games will win 1 Corporate Cup.
X-ALT-DESC;FMTTYPE=text/html:Porterville Parks and Leisure Services &amp\; Tule River Indian Tribe Present the Porterville Corporate Games. It premier business to business competitions. The Competitions are from September 10th to September 20th. There will be 9 different activities and medals for the Top 3 Teams in each activity. The winner of the Porterville Corporate Games will win 1 Corporate Cup.&nbsp\;
LOCATION:
UID:e.2225.2014
SEQUENCE:3
DTSTAMP:20260421T054247Z
URL:https://business.portervillechamber.org/events/details/porterville-corporate-games-begin-2014
END:VEVENT

END:VCALENDAR
