BEGIN:VCALENDAR
VERSION:2.0
PRODID:-//ChamberMaster//Event Calendar 2.0//EN
METHOD:PUBLISH
X-PUBLISHED-TTL:P3D
REFRESH-INTERVAL:P3D
CALSCALE:GREGORIAN
BEGIN:VEVENT
DTSTART;VALUE=DATE:20180509
DTEND;VALUE=DATE:20180514
TRANSP:TRANSPARENT
X-MICROSOFT-CDO-ALLDAYEVENT:TRUE
SUMMARY:Porterville Fair
DESCRIPTION:Wednesday 5/9 "PHYSICS DAY" Admission: 6 AM   11PM Indoor Exhibits: 9 AM   10 PM Indoor Commercial Exhibits: 4 PM   10 PM Rides & Attractions: 4 PM   Close Thursday 5/10 "SPECIAL FRIENDS DAY" Admission: 6 AM   11PM Indoor Exhibits: 9 AM   10 PM Indoor Commercial Exhibits: 4 PM   10 PM Rides & Attractions: 4 PM   Close Friday 5/11 "FARM DAY" Admission: 6AM   Midnight Indoor Exhibits: Noon   11 PM Indoor Commercial Exhibits: 4 PM   11 PM Rides & Attractions: 4 PM   Close Saturday 5/12 "AUCTION DAY" Admission: 6AM   Midnight Indoor Exhibits: 10 AM   11 PM Indoor Commercial Exhibits: 4 PM   11 PM Rides & Attractions: Noon   Close Sunday 5/13 "FIESTA DAY" Admission: Noon   11PM Indoor Exhibits: Noon   8 PM Indoor Commercial Exhibits: Noon   8 PM Rides & Attractions: Noon   Close
X-ALT-DESC;FMTTYPE=text/html:Wednesday 5/9 &ldquo\;PHYSICS DAY&rdquo\; Admission: 6 AM &ndash\; 11PM Indoor Exhibits: 9 AM &ndash\; 10 PM Indoor Commercial Exhibits: 4 PM &ndash\; 10 PM Rides &amp\; Attractions: 4 PM &ndash\; Close Thursday 5/10 &ldquo\;SPECIAL FRIENDS DAY&rdquo\; Admission: 6 AM &ndash\; 11PM Indoor Exhibits: 9 AM &ndash\; 10 PM Indoor Commercial Exhibits: 4 PM &ndash\; 10 PM Rides &amp\; Attractions: 4 PM &ndash\; Close Friday 5/11 &ldquo\;FARM DAY&rdquo\; Admission: 6AM &ndash\; Midnight Indoor Exhibits: Noon &ndash\; 11 PM Indoor Commercial Exhibits: 4 PM &ndash\; 11 PM Rides &amp\; Attractions: 4 PM &ndash\; Close Saturday 5/12 &ldquo\;AUCTION DAY&rdquo\; Admission: 6AM &ndash\; Midnight Indoor Exhibits: 10 AM &ndash\; 11 PM Indoor Commercial Exhibits: 4 PM &ndash\; 11 PM Rides &amp\; Attractions: Noon &ndash\; Close Sunday 5/13 &ldquo\;FIESTA DAY&rdquo\; Admission: Noon &ndash\; 11PM Indoor Exhibits: Noon &ndash\; 8 PM Indoor Commercial Exhibits: Noon &ndash\; 8 PM Rides &amp\; Attractions: Noon &ndash\; Close
LOCATION:2700 W. Teapot Dome Porterville\, CA 93257
UID:e.2225.1462
SEQUENCE:3
DTSTAMP:20260422T111928Z
URL:https://business.portervillechamber.org/events/details/porterville-fair-05-09-2018-1462
END:VEVENT

END:VCALENDAR
