BEGIN:VCALENDAR
VERSION:2.0
PRODID:-//ChamberMaster//Event Calendar 2.0//EN
METHOD:PUBLISH
X-PUBLISHED-TTL:P3D
REFRESH-INTERVAL:P3D
CALSCALE:GREGORIAN
BEGIN:VEVENT
DTSTART;VALUE=DATE:20190515
DTEND;VALUE=DATE:20190520
TRANSP:TRANSPARENT
X-MICROSOFT-CDO-ALLDAYEVENT:TRUE
SUMMARY:Porterville Fair
DESCRIPTION:
X-ALT-DESC;FMTTYPE=text/html:
LOCATION:Porterville Fairgrounds 2700 W Teapot Dome Ave Porterville\, CA 93257
UID:e.2225.1956
SEQUENCE:3
DTSTAMP:20260421T141003Z
URL:https://business.portervillechamber.org/events/details/porterville-fair-1956
END:VEVENT

END:VCALENDAR
