BEGIN:VCALENDAR
VERSION:2.0
PRODID:-//ChamberMaster//Event Calendar 2.0//EN
METHOD:PUBLISH
X-PUBLISHED-TTL:P3D
REFRESH-INTERVAL:P3D
CALSCALE:GREGORIAN
BEGIN:VEVENT
DTSTART:20190523T150000Z
DTEND:20190523T183000Z
X-MICROSOFT-CDO-ALLDAYEVENT:FALSE
SUMMARY:Porterville Farmer's Market
DESCRIPTION:
X-ALT-DESC;FMTTYPE=text/html:
LOCATION:Sierra View Medical Center 465 W. Putnam Porterville\, CA
UID:e.2225.1958
SEQUENCE:3
DTSTAMP:20260421T125258Z
URL:https://business.portervillechamber.org/events/details/porterville-farmer-s-market-1958
END:VEVENT

END:VCALENDAR
