BEGIN:VCALENDAR
VERSION:2.0
PRODID:-//ChamberMaster//Event Calendar 2.0//EN
METHOD:PUBLISH
X-PUBLISHED-TTL:P3D
REFRESH-INTERVAL:P3D
CALSCALE:GREGORIAN
BEGIN:VEVENT
DTSTART:20190711T150000Z
DTEND:20190711T183000Z
X-MICROSOFT-CDO-ALLDAYEVENT:FALSE
SUMMARY:Porterville Farmer's Market sponsored by Sierra View Medical Center
DESCRIPTION:
X-ALT-DESC;FMTTYPE=text/html:
LOCATION:Downtown Porterville
UID:e.2225.1964
SEQUENCE:3
DTSTAMP:20260421T092725Z
URL:https://business.portervillechamber.org/events/details/porterville-farmer-s-market-sponsored-by-sierra-view-medical-center-1964
END:VEVENT

END:VCALENDAR
