BEGIN:VCALENDAR
VERSION:2.0
PRODID:-//ChamberMaster//Event Calendar 2.0//EN
METHOD:PUBLISH
X-PUBLISHED-TTL:P3D
REFRESH-INTERVAL:P3D
CALSCALE:GREGORIAN
BEGIN:VEVENT
DTSTART:20190718T150000Z
DTEND:20190718T183000Z
X-MICROSOFT-CDO-ALLDAYEVENT:FALSE
SUMMARY:Porterville Farmer's Market sponsored by Sierra View Medical Center
DESCRIPTION:
X-ALT-DESC;FMTTYPE=text/html:
LOCATION:Downtown Porterville
UID:e.2225.1965
SEQUENCE:3
DTSTAMP:20260421T092908Z
URL:https://business.portervillechamber.org/events/details/porterville-farmers-market-sponsored-by-sierra-view-medical-center-07-18-2019-1965
END:VEVENT

END:VCALENDAR
