BEGIN:VCALENDAR
VERSION:2.0
PRODID:-//ChamberMaster//Event Calendar 2.0//EN
METHOD:PUBLISH
X-PUBLISHED-TTL:P3D
REFRESH-INTERVAL:P3D
CALSCALE:GREGORIAN
BEGIN:VEVENT
DTSTART:20191004T150000Z
DTEND:20191005T210000Z
X-MICROSOFT-CDO-ALLDAYEVENT:FALSE
SUMMARY:Porterville Historical Museum Annual Yard Sale
DESCRIPTION:Porterville Historical Museum Annual Yard Sale\n\nDonations will be Accepted until October 3\, 2019
X-ALT-DESC;FMTTYPE=text/html:Porterville Historical Museum Annual Yard Sale<br />\nDonations will be Accepted until October 3\, 2019
LOCATION:27 N D Street Porterville\, CA 93257
UID:e.2225.2047
SEQUENCE:3
DTSTAMP:20260421T035507Z
URL:https://business.portervillechamber.org/events/details/porterville-historical-museum-annual-yard-sale-2047
END:VEVENT

END:VCALENDAR
