BEGIN:VCALENDAR
VERSION:2.0
PRODID:-//ChamberMaster//Event Calendar 2.0//EN
METHOD:PUBLISH
X-PUBLISHED-TTL:P3D
REFRESH-INTERVAL:P3D
CALSCALE:GREGORIAN
BEGIN:VEVENT
DTSTART:20200131T180000Z
DTEND:20200131T220000Z
X-MICROSOFT-CDO-ALLDAYEVENT:FALSE
SUMMARY:Porterville Military Academy Blood Drive
DESCRIPTION:"When you have someone's back\, you share your blood." The Porterville Military Academy (PMA) is hosting a Blood Drive with Central California Blood Center. The Central California Blood Center encourages all participants to drink plenty of water before donating!\n\nFor more information\, contact Carmella Lamb at (559) 612-7995.
X-ALT-DESC;FMTTYPE=text/html:<span id="docs-internal-guid-8e71421d-7fff-2a60-6c0f-0da7cc4f1842"><span style="font-size: 11pt\; font-family: Arial\; color: rgb(68\, 68\, 68)\; font-variant-numeric: normal\; font-variant-east-asian: normal\; vertical-align: baseline\; white-space: pre-wrap\;">&ldquo\;When you have someone&rsquo\;s back\, you share your blood.&rdquo\; The Porterville Military Academy (PMA) is hosting a Blood Drive with Central California Blood Center. </span></span><span id="docs-internal-guid-f13c8bde-7fff-66a1-8427-ca0d25bc943e"><span style="font-size: 11pt\; font-family: Arial\; color: rgb(68\, 68\, 68)\; font-variant-numeric: normal\; font-variant-east-asian: normal\; vertical-align: baseline\; white-space: pre-wrap\;">The Central California Blood Center encourages all participants to drink plenty of water before donating!</span></span><br />\n<span id="docs-internal-guid-d89ad5bd-7fff-95b2-b852-5da8044cfb59"><span style="font-size: 11pt\; font-family: Arial\; color: rgb(68\, 68\, 68)\; font-variant-numeric: normal\; font-variant-east-asian: normal\; vertical-align: baseline\; white-space: pre-wrap\;">For more information\, contact Carmella Lamb at (559) 612-7995.</span></span>
LOCATION:Porterville Military Academy 900 Pioneer Avenue Porterville\, CA 93257
UID:e.2225.2128
SEQUENCE:3
DTSTAMP:20260421T001018Z
URL:https://business.portervillechamber.org/events/details/porterville-military-academy-blood-drive-2128
END:VEVENT

END:VCALENDAR
