BEGIN:VCALENDAR
VERSION:2.0
PRODID:-//ChamberMaster//Event Calendar 2.0//EN
METHOD:PUBLISH
X-PUBLISHED-TTL:P3D
REFRESH-INTERVAL:P3D
CALSCALE:GREGORIAN
BEGIN:VEVENT
DTSTART:20191123T183000Z
DTEND:20191123T210000Z
X-MICROSOFT-CDO-ALLDAYEVENT:FALSE
SUMMARY:Porterville Military Academy- Pass in Review
DESCRIPTION:
X-ALT-DESC;FMTTYPE=text/html:
LOCATION:Porterville Military Academy 900 Pioneer Avenue\, Porterville\, CA 93257
UID:e.2225.2090
SEQUENCE:3
DTSTAMP:20260421T035339Z
URL:https://business.portervillechamber.org/events/details/porterville-military-academy-pass-in-review-2090
END:VEVENT

END:VCALENDAR
