BEGIN:VCALENDAR
VERSION:2.0
PRODID:-//ChamberMaster//Event Calendar 2.0//EN
METHOD:PUBLISH
X-PUBLISHED-TTL:P3D
REFRESH-INTERVAL:P3D
CALSCALE:GREGORIAN
BEGIN:VEVENT
DTSTART:20190609T003000Z
DTEND:20190609T023000Z
X-MICROSOFT-CDO-ALLDAYEVENT:FALSE
SUMMARY:Porterville Museum Annual Wine and Dine Party
DESCRIPTION:Tickets are $30 and are sold at the Museum and the Chamber. \n\n5:30pm Social Time\n\n6:30pm Dinner\n\n7:30pm Live Auction\n\n5:30-7:30pm Silent Auction
X-ALT-DESC;FMTTYPE=text/html:Tickets are $30 and are sold at the Museum and the Chamber.&nbsp\;<br />\n5:30pm Social Time<br />\n6:30pm Dinner<br />\n7:30pm Live Auction<br />\n5:30-7:30pm Silent Auction
LOCATION:Porterville Historical Museum
UID:e.2225.1971
SEQUENCE:3
DTSTAMP:20260421T110858Z
URL:https://business.portervillechamber.org/events/details/porterville-museum-annual-wine-and-dine-party-1971
END:VEVENT

END:VCALENDAR
