BEGIN:VCALENDAR
VERSION:2.0
PRODID:-//ChamberMaster//Event Calendar 2.0//EN
METHOD:PUBLISH
X-PUBLISHED-TTL:P3D
REFRESH-INTERVAL:P3D
CALSCALE:GREGORIAN
BEGIN:VEVENT
DTSTART:20171006T150000Z
DTEND:20171007T210000Z
X-MICROSOFT-CDO-ALLDAYEVENT:FALSE
SUMMARY:Porterville Museum Yard Sale
DESCRIPTION:Porterville Historical Museum is having their annual yard sale.  The Yard Sale hours are Friday\, October 6 and Saturday\, October 7 from 8am-2pm. Lots of items. The Porterville Historical Museum is located at 257 N. D Street and parts of  Museum will be closed to public October 6 and 7.
X-ALT-DESC;FMTTYPE=text/html:<b style="color: rgb(34\, 34\, 34)\; font-family: arial\, sans-serif\; font-size: 12.8px\;">Porterville Historical Museum is having their annual yard sale.&nbsp\; The Yard Sale hours are&nbsp\;<span class="aBn" data-term="goog_1094574294" style="border-bottom: 1px dashed rgb(204\, 204\, 204)\; position: relative\; top: -2px\; z-index: 0\;" tabindex="0"><span class="aQJ" style="position: relative\; top: 2px\; z-index: -1\;">Friday\, October 6 and Saturday\, October 7</span></span>&nbsp\;from&nbsp\;<span class="aBn" data-term="goog_1094574295" style="border-bottom: 1px dashed rgb(204\, 204\, 204)\; position: relative\; top: -2px\; z-index: 0\;" tabindex="0"><span class="aQJ" style="position: relative\; top: 2px\; z-index: -1\;">8am-2pm</span></span>. Lots of items.&nbsp\;The Porterville Historical Museum is located at&nbsp\;<a data-saferedirecturl="https://www.google.com/url?hl=en&amp\;q=https://maps.google.com/?q%3D257%2BN.%2BD%2BStreet%26entry%3Dgmail%26source%3Dg&amp\;source=gmail&amp\;ust=1507049223090000&amp\;usg=AFQjCNHZI1cqDB_1nUu9dEzWF0FEUz8bRA" href="https://maps.google.com/?q=257+N.+D+Street&amp\;entry=gmail&amp\;source=g" style="color: rgb(17\, 85\, 204)\;" target="_blank">257 N. D Street</a>&nbsp\;and&nbsp\;parts of &nbsp\;Museum will be closed to&nbsp\;public&nbsp\;<span class="aBn" data-term="goog_1094574296" style="border-bottom: 1px dashed rgb(204\, 204\, 204)\; position: relative\; top: -2px\; z-index: 0\;" tabindex="0"><span class="aQJ" style="position: relative\; top: 2px\; z-index: -1\;">October 6 and 7</span></span>.</b>
LOCATION:
UID:e.2225.1255
SEQUENCE:3
DTSTAMP:20260422T215133Z
URL:https://business.portervillechamber.org/events/details/porterville-museum-yard-sale-1255
END:VEVENT

END:VCALENDAR
