BEGIN:VCALENDAR
VERSION:2.0
PRODID:-//ChamberMaster//Event Calendar 2.0//EN
METHOD:PUBLISH
X-PUBLISHED-TTL:P3D
REFRESH-INTERVAL:P3D
CALSCALE:GREGORIAN
BEGIN:VEVENT
DTSTART:20191002T170000Z
DTEND:20191002T180000Z
X-MICROSOFT-CDO-ALLDAYEVENT:FALSE
SUMMARY:Porterville Pawn Shop Ribbon Cutting
DESCRIPTION:
X-ALT-DESC;FMTTYPE=text/html:
LOCATION:1488 W Olive Ave Porterville CA\, 93257
UID:e.2225.2050
SEQUENCE:3
DTSTAMP:20260421T035507Z
URL:https://business.portervillechamber.org/events/details/porterville-pawn-shop-ribbon-cutting-2050
END:VEVENT

END:VCALENDAR
