BEGIN:VCALENDAR
VERSION:2.0
PRODID:-//ChamberMaster//Event Calendar 2.0//EN
METHOD:PUBLISH
X-PUBLISHED-TTL:P3D
REFRESH-INTERVAL:P3D
CALSCALE:GREGORIAN
BEGIN:VEVENT
DTSTART;VALUE=DATE:20200124
DTEND;VALUE=DATE:20200125
TRANSP:TRANSPARENT
X-MICROSOFT-CDO-ALLDAYEVENT:TRUE
SUMMARY:Porterville Project Homeless Connect
DESCRIPTION:The Kings/Tulare Homeless Alliance will provide free services to people experiencing homelessness on Friday\, January 24th. These services include wound care\, haircuts\, and veteran services.\nTo learn how you can get involved\, please contact Patricia Torres at 559-731-5534 or Kathy Guinn at 559-256-1183. For more information\, visit kthomelessalliance.org
X-ALT-DESC;FMTTYPE=text/html:<span id="docs-internal-guid-ba833981-7fff-5702-f3fc-9cd08853d2de"><span style="font-size: 11pt\; font-family: Arial\; color: rgb(0\, 0\, 0)\; background-color: transparent\; font-variant-numeric: normal\; font-variant-east-asian: normal\; vertical-align: baseline\; white-space: pre-wrap\;">The Kings/Tulare Homeless Alliance will provide free services to people experiencing homelessness on Friday\, January 24th. These services include wound care\, haircuts\, and veteran services.</span></span>\n<p dir="ltr" style="line-height:1.38\;margin-top:0pt\;margin-bottom:0pt\;"><span id="docs-internal-guid-bda271e1-7fff-80d1-a4a4-d02000cee24b"><span style="font-size: 11pt\; font-family: Arial\; color: rgb(0\, 0\, 0)\; background-color: transparent\; font-variant-numeric: normal\; font-variant-east-asian: normal\; vertical-align: baseline\; white-space: pre-wrap\;">To learn how you can get involved\, please contact Patricia Torres at 559-731-5534 or Kathy Guinn at 559-256-1183. For more information\, visit kthomelessalliance.org</span></span></p>\n
LOCATION:Grand Avenue United Methodist Church 776 W Grand Avenue Porterville\, CA 93257
UID:e.2225.2125
SEQUENCE:3
DTSTAMP:20260420T223034Z
URL:https://business.portervillechamber.org/events/details/porterville-project-homeless-connect-2125
END:VEVENT

END:VCALENDAR
