BEGIN:VCALENDAR
VERSION:2.0
PRODID:-//ChamberMaster//Event Calendar 2.0//EN
METHOD:PUBLISH
X-PUBLISHED-TTL:P3D
REFRESH-INTERVAL:P3D
CALSCALE:GREGORIAN
BEGIN:VEVENT
DTSTART;VALUE=DATE:20181006
DTEND;VALUE=DATE:20181008
TRANSP:TRANSPARENT
X-MICROSOFT-CDO-ALLDAYEVENT:TRUE
SUMMARY:Porterville Relay for Life
DESCRIPTION:This is Porterville Relay for Life's 20th anniversary. This is an amazing free event for the public. Teams and businesses set up booths and volunteers walk the track to bring awareness\, and raise money for cancer research. All of the proceeds go to American Cancer Society. This event is 24 hours because cancer never sleeps. Join us to honor our cancer survivors and to remember those lost to this awful disease.
X-ALT-DESC;FMTTYPE=text/html:This is Porterville Relay for Life&#39\;s 20th anniversary. This is an amazing free event for the public. Teams and businesses set up booths and volunteers walk the track to bring awareness\, and raise money for cancer research. All of the proceeds go to American Cancer Society. This event is 24 hours because cancer never sleeps. Join us to honor our cancer survivors and to remember those lost to this awful disease.
LOCATION:Summit Charter Collegiate Academy 175 S. Matthew St Porterville\, CA 93257
UID:e.2225.1500
SEQUENCE:3
DTSTAMP:20260422T003426Z
URL:https://business.portervillechamber.org/events/details/porterville-relay-for-life-1500
END:VEVENT

END:VCALENDAR
