BEGIN:VCALENDAR
VERSION:2.0
PRODID:-//ChamberMaster//Event Calendar 2.0//EN
METHOD:PUBLISH
X-PUBLISHED-TTL:P3D
REFRESH-INTERVAL:P3D
CALSCALE:GREGORIAN
BEGIN:VEVENT
DTSTART:20190925T210000Z
DTEND:20190926T020000Z
X-MICROSOFT-CDO-ALLDAYEVENT:FALSE
SUMMARY:Porterville Relay For Life Blood Drive
DESCRIPTION:Free Black Bear Diner Individual Pie and Relay For Life T-Shirt to all Donors!
X-ALT-DESC;FMTTYPE=text/html:Free Black Bear Diner Individual Pie and Relay For Life T-Shirt to all Donors!
LOCATION:Black Bear Diner 910 W Olive Ave Porterville CA 93257
UID:e.2225.2046
SEQUENCE:3
DTSTAMP:20260421T054640Z
URL:https://business.portervillechamber.org/events/details/porterville-relay-for-life-blood-drive-2046
END:VEVENT

END:VCALENDAR
