BEGIN:VCALENDAR
VERSION:2.0
PRODID:-//ChamberMaster//Event Calendar 2.0//EN
METHOD:PUBLISH
X-PUBLISHED-TTL:P3D
REFRESH-INTERVAL:P3D
CALSCALE:GREGORIAN
BEGIN:VEVENT
DTSTART:20210615T020000Z
DTEND:20210615T030000Z
X-MICROSOFT-CDO-ALLDAYEVENT:FALSE
SUMMARY:Porterville's 40th Annual Flag Day Celebration- Stars and Stripes Forever
DESCRIPTION:The Flag Day Committee is proud to invite the community to Porterville's 40th Annual Flag Day Celebration.\n\n\n\nPorterville Flag Day Committee:\n\n	American Legion Auxiliary Unit 20\n	American Legion\, Post 20\n	Elks Lodge BPOE 1342\n	Porterville Emblem Club #82\n	Exchange Club\n	Old Glory Club\n	Eagle Mountain Casino\n	Grocery Outlet\n	Porterville Chamber of Commerce
X-ALT-DESC;FMTTYPE=text/html:<br />\n<br />\nThe Flag Day Committee is proud to invite the community to Porterville&#39\;s 40th Annual Flag Day Celebration.<br />\n<br />\n<strong>Porterville Flag Day Committee:</strong>\n<ul>\n	<li>American Legion Auxiliary&nbsp\;Unit 20</li>\n	<li>American Legion\, Post 20</li>\n	<li>Elks Lodge BPOE 1342</li>\n	<li>Porterville Emblem Club #82</li>\n	<li>Exchange Club</li>\n	<li>Old Glory Club</li>\n	<li>Eagle Mountain Casino</li>\n	<li>Grocery Outlet</li>\n	<li>Porterville Chamber of Commerce</li>\n</ul>\n
LOCATION:Grocery Outlet Parking lot\, corner of Olive Avenue and D St 50 W. Olive Avenue\, Portervillle\, CA 93257
UID:e.2225.2202
SEQUENCE:3
DTSTAMP:20260419T165558Z
URL:https://business.portervillechamber.org/events/details/porterville-s-40th-annual-flag-day-celebration-stars-and-stripes-forever-2202
END:VEVENT

END:VCALENDAR
