BEGIN:VCALENDAR
VERSION:2.0
PRODID:-//ChamberMaster//Event Calendar 2.0//EN
METHOD:PUBLISH
X-PUBLISHED-TTL:P3D
REFRESH-INTERVAL:P3D
CALSCALE:GREGORIAN
BEGIN:VEVENT
DTSTART;VALUE=DATE:20190318
DTEND;VALUE=DATE:20190319
TRANSP:TRANSPARENT
X-MICROSOFT-CDO-ALLDAYEVENT:TRUE
SUMMARY:Presidents Day - Chamber Closed
DESCRIPTION:The Porterville Chamber of Commerce will be closed for Presidents Day and will be open the following day at 9 a.m.
X-ALT-DESC;FMTTYPE=text/html:The Porterville Chamber of Commerce will be closed for Presidents Day and will be open the following day at 9 a.m.
LOCATION:
UID:e.2225.1877
SEQUENCE:3
DTSTAMP:20260421T155101Z
URL:https://business.portervillechamber.org/events/details/presidents-day-chamber-closed-1877
END:VEVENT

END:VCALENDAR
