BEGIN:VCALENDAR
VERSION:2.0
PRODID:-//ChamberMaster//Event Calendar 2.0//EN
METHOD:PUBLISH
X-PUBLISHED-TTL:P3D
REFRESH-INTERVAL:P3D
CALSCALE:GREGORIAN
BEGIN:VEVENT
DTSTART:20190307T020000Z
DTEND:20190307T040000Z
X-MICROSOFT-CDO-ALLDAYEVENT:FALSE
SUMMARY:Proteus - Annual Community Forum
DESCRIPTION:Proteus Inc. will be hosting an annual community forum. Proteus will be discussing the community's needs as well as having a publuis survey.
X-ALT-DESC;FMTTYPE=text/html:Proteus Inc. will be hosting an annual community forum. Proteus will be discussing the community&#39\;s needs as well as having a publuis survey.
LOCATION:Proteus INC. 54 N. Main St.
UID:e.2225.1887
SEQUENCE:3
DTSTAMP:20260421T154927Z
URL:https://business.portervillechamber.org/events/details/proteus-annual-community-forum-1887
END:VEVENT

END:VCALENDAR
