BEGIN:VCALENDAR
VERSION:2.0
PRODID:-//ChamberMaster//Event Calendar 2.0//EN
METHOD:PUBLISH
X-PUBLISHED-TTL:P3D
REFRESH-INTERVAL:P3D
CALSCALE:GREGORIAN
BEGIN:VEVENT
DTSTART:20180927T003000Z
DTEND:20180927T010000Z
X-MICROSOFT-CDO-ALLDAYEVENT:FALSE
SUMMARY:Public Safety Town Hall
DESCRIPTION:Join Assemblyman Devon Mathis for a legislative update related to public safety\, alongside Tulare County Sheriff Mike Boudreaux\, Tulare County District Attorney Tim Ward\, and Visalia Police Chief Jason Salazar. This will be followed by an opportunity for questions for the panelists. Please contact the District Office at 559.636.3440 with questions or to RSVP.
X-ALT-DESC;FMTTYPE=text/html:Join Assemblyman Devon Mathis for a legislative update related to public safety\, alongside Tulare County Sheriff Mike Boudreaux\, Tulare County District Attorney Tim Ward\, and Visalia Police Chief Jason Salazar. This will be followed by an opportunity for questions for the panelists. Please contact the District Office at 559.636.3440 with questions or to RSVP.
LOCATION:Visalia Veterans Memorial Building 609 W. Center Ave.\, Visalia
UID:e.2225.1789
SEQUENCE:3
DTSTAMP:20260422T022412Z
URL:https://business.portervillechamber.org/events/details/public-safety-town-hall-1789
END:VEVENT

END:VCALENDAR
