BEGIN:VCALENDAR
VERSION:2.0
PRODID:-//ChamberMaster//Event Calendar 2.0//EN
METHOD:PUBLISH
X-PUBLISHED-TTL:P3D
REFRESH-INTERVAL:P3D
CALSCALE:GREGORIAN
BEGIN:VEVENT
DTSTART:20180429T030000Z
DTEND:20180429T060000Z
X-MICROSOFT-CDO-ALLDAYEVENT:FALSE
SUMMARY:Randy Bachman Concert
DESCRIPTION:Hands in the Community & Joshua Ray Smallwood Foundation will present an evening with legendary rock musician\, Randy Bachman\, on Saturday\, April 28th\, 7:00 pm\, at the Visalia Fox Theater. Seats for the concert range from $35-$80 and can be purchased at www.foxvisalia.org or 308 W. Main St.\, Visalia. Several business sponsor opportunities are still available\, as well.
X-ALT-DESC;FMTTYPE=text/html:Hands in the Community &amp\; Joshua Ray Smallwood Foundation will present an evening with legendary rock musician\, Randy Bachman\, on Saturday\, April 28th\, 7:00 pm\, at the Visalia Fox Theater. Seats for the concert range from $35-$80 and can be purchased at www.foxvisalia.org or 308 W. Main St.\, Visalia. Several business sponsor opportunities are still available\, as well.
LOCATION:Visalia Fox Theatre 308 W Main St\, Visalia\, CA 93291
UID:e.2225.1444
SEQUENCE:3
DTSTAMP:20260422T113958Z
URL:https://business.portervillechamber.org/events/details/randy-bachman-concert-1444
END:VEVENT

END:VCALENDAR
