BEGIN:VCALENDAR
VERSION:2.0
PRODID:-//ChamberMaster//Event Calendar 2.0//EN
METHOD:PUBLISH
X-PUBLISHED-TTL:P3D
REFRESH-INTERVAL:P3D
CALSCALE:GREGORIAN
BEGIN:VEVENT
DTSTART:20190119T010000Z
DTEND:20190119T030000Z
X-MICROSOFT-CDO-ALLDAYEVENT:FALSE
SUMMARY:Reception Friday - Eaton - Pyles String Band
DESCRIPTION:The Porterville Art Association is proud to have The Eaton - Pyles String Band performing live at the 3rd Annual Bad Art Show.
X-ALT-DESC;FMTTYPE=text/html:The Porterville Art Association is proud to have The Eaton - Pyles String Band performing live at the 3rd Annual Bad Art Show.
LOCATION:Porterville Art Association Gallery 151 N. Main Street\, Porterville CA 93257
UID:e.2225.1857
SEQUENCE:3
DTSTAMP:20260421T195101Z
URL:https://business.portervillechamber.org/events/details/reception-friday-eaton-pyles-string-band-1857
END:VEVENT

END:VCALENDAR
