BEGIN:VCALENDAR
VERSION:2.0
PRODID:-//ChamberMaster//Event Calendar 2.0//EN
METHOD:PUBLISH
X-PUBLISHED-TTL:P3D
REFRESH-INTERVAL:P3D
CALSCALE:GREGORIAN
BEGIN:VEVENT
DTSTART:20191005T160000Z
DTEND:20191006T060000Z
X-MICROSOFT-CDO-ALLDAYEVENT:FALSE
SUMMARY:Relay For Life of Porterville
DESCRIPTION:Family Event - Music All Day - Games & Contests - Kids Activities - Opportunity Drawings - Food & Drinks - Onsite Fundraisers - Live Performances and Much More!\n\nHelp Make Cancer a Think of The Past!
X-ALT-DESC;FMTTYPE=text/html:Family Event - Music All Day - Games &amp\; Contests - Kids Activities - Opportunity Drawings - Food &amp\; Drinks - Onsite Fundraisers - Live Performances and Much More!<br />\n<strong>Help Make Cancer a Think of The Past!</strong>
LOCATION:Veterans Park 1501 W. Henderson Ave Porterville CA\, 93257
UID:e.2225.1973
SEQUENCE:3
DTSTAMP:20260421T035339Z
URL:https://business.portervillechamber.org/events/details/relay-for-life-of-porterville-1973
END:VEVENT

END:VCALENDAR
