BEGIN:VCALENDAR
VERSION:2.0
PRODID:-//ChamberMaster//Event Calendar 2.0//EN
METHOD:PUBLISH
X-PUBLISHED-TTL:P3D
REFRESH-INTERVAL:P3D
CALSCALE:GREGORIAN
BEGIN:VEVENT
DTSTART:20170915T003000Z
DTEND:20170915T023000Z
X-MICROSOFT-CDO-ALLDAYEVENT:FALSE
SUMMARY:Resources for Small Business in Porterville - Workshop
DESCRIPTION:Come learn about resources that are available to help start or grow your business!
X-ALT-DESC;FMTTYPE=text/html:Come learn about resources that are available to help start or grow your business!&nbsp\;
LOCATION:Centennial Plaza Conference Room 15 E. Thurman Ave. Porterville CA 93257
UID:e.2225.1244
SEQUENCE:3
DTSTAMP:20260422T233232Z
URL:https://business.portervillechamber.org/events/details/resources-for-small-business-in-porterville-workshop-1244
END:VEVENT

END:VCALENDAR
