BEGIN:VCALENDAR
VERSION:2.0
PRODID:-//ChamberMaster//Event Calendar 2.0//EN
METHOD:PUBLISH
X-PUBLISHED-TTL:P3D
REFRESH-INTERVAL:P3D
CALSCALE:GREGORIAN
BEGIN:VEVENT
DTSTART:20200226T230000Z
DTEND:20200227T020000Z
X-MICROSOFT-CDO-ALLDAYEVENT:FALSE
SUMMARY:Ribbon Cutting and Open House: State Farm Insurance\, Rose M. Quinonez
DESCRIPTION:Agent Rose M. Quinonez and the Porterville Chamber of Commerce welcome the public to a Ribbon Cutting and Open House! Refreshments will be served.\n\nWith Guest of Honor Tom Wright! Tom Wright served as a State Farm Agent for over forty years. Rose M. Quinonez succeeded Tom Wright and hopes the community will attend to show their appreciation for his decades of work.
X-ALT-DESC;FMTTYPE=text/html:<span style="color: rgb(60\, 64\, 67)\; font-family: Roboto\, Arial\, sans-serif\; font-size: 14px\; letter-spacing: 0.2px\; white-space: pre-wrap\;">Agent Rose M. Quinonez and the Porterville Chamber of Commerce welcome the public to a Ribbon Cutting and Open House! Refreshments will be served.<br />\nWith Guest of Honor Tom Wright! Tom Wright served as a State Farm Agent for over forty years. Rose M. Quinonez succeeded Tom Wright and hopes the community will attend to show their appreciation for his decades of work.</span>
LOCATION:837 N Main Street Porterville\, CA 93257
UID:e.2225.2127
SEQUENCE:3
DTSTAMP:20260420T204755Z
URL:https://business.portervillechamber.org/events/details/ribbon-cutting-and-open-house-state-farm-insurance-rose-m-quinonez-2127
END:VEVENT

END:VCALENDAR
