BEGIN:VCALENDAR
VERSION:2.0
PRODID:-//ChamberMaster//Event Calendar 2.0//EN
METHOD:PUBLISH
X-PUBLISHED-TTL:P3D
REFRESH-INTERVAL:P3D
CALSCALE:GREGORIAN
BEGIN:VEVENT
DTSTART:20260602T190000Z
DTEND:20260602T200000Z
X-MICROSOFT-CDO-ALLDAYEVENT:FALSE
SUMMARY:Ribbon Cutting Ceremony - The Beauty Bar
DESCRIPTION:Join us as we to help celebrate The Beauty Bar with an official ribbon cutting ceremony. Help us welcome thsi beautiful new salon to our business community and show your support as they open their doors to the public.
X-ALT-DESC;FMTTYPE=text/html:<font face="arial"><span style="font-size: 14px\;"><b>Join us as we to help celebrate The Beauty Bar with an official ribbon cutting ceremony. Help us welcome thsi beautiful new salon to our business community and show your support as they open their doors to the public.&nbsp\;</b></span></font>
LOCATION:367 n Main St. Porterville Ca\, 93257
UID:e.2225.4851
SEQUENCE:3
DTSTAMP:20260422T221925Z
URL:https://business.portervillechamber.org/events/details/ribbon-cutting-ceremony-the-beauty-bar-4851
END:VEVENT

END:VCALENDAR
