BEGIN:VCALENDAR
VERSION:2.0
PRODID:-//ChamberMaster//Event Calendar 2.0//EN
METHOD:PUBLISH
X-PUBLISHED-TTL:P3D
REFRESH-INTERVAL:P3D
CALSCALE:GREGORIAN
BEGIN:VEVENT
DTSTART:20200227T180000Z
DTEND:20200227T190000Z
X-MICROSOFT-CDO-ALLDAYEVENT:FALSE
SUMMARY:Ribbon Cutting: La Poderosa KTIP
DESCRIPTION:
X-ALT-DESC;FMTTYPE=text/html:
LOCATION:La Poderosa KTIP 1660 N. Newcomb Street Porterville\, CA 93257
UID:e.2225.2126
SEQUENCE:3
DTSTAMP:20260420T202417Z
URL:https://business.portervillechamber.org/events/details/ribbon-cutting-la-poderosa-ktip-2126
END:VEVENT

END:VCALENDAR
